<?xml version="1.0" encoding="UTF-8"?>
<Capabilities xmlns="http://www.opengis.net/wmts/1.0"
xmlns:ows="http://www.opengis.net/ows/1.1"
xmlns:xlink="http://www.w3.org/1999/xlink"
xmlns:xsi="http://www.w3.org/2001/XMLSchema-instance"
xmlns:gml="http://www.opengis.net/gml"
xsi:schemaLocation="http://www.opengis.net/wmts/1.0 http://schemas.opengis.net/wmts/1.0/wmtsGetCapabilities_response.xsd"
version="1.0.0">
<!-- Service Identification --> <ows:ServiceIdentification>
<ows:Title>BaseData_Nearmap_9in_2025</ows:Title>
<ows:ServiceType>OGC WMTS</ows:ServiceType>
<ows:ServiceTypeVersion>1.0.0</ows:ServiceTypeVersion>
</ows:ServiceIdentification> <!-- Operations Metadata --> <ows:OperationsMetadata>
<ows:Operation name="GetCapabilities">
<ows:DCP>
<ows:HTTP>
<ows:Get xlink:href="https://admin-enterprise-gis.ucsd.edu/server/rest/services/BaseData/Nearmap_9in_2025/MapServer/WMTS/1.0.0/WMTSCapabilities.xml">
<ows:Constraint name="GetEncoding">
<ows:AllowedValues>
<ows:Value>RESTful</ows:Value>
</ows:AllowedValues>
</ows:Constraint>
</ows:Get>
<!-- add KVP binding in 10.1 -->
<ows:Get xlink:href="https://admin-enterprise-gis.ucsd.edu/server/rest/services/BaseData/Nearmap_9in_2025/MapServer/WMTS?">
<ows:Constraint name="GetEncoding">
<ows:AllowedValues>
<ows:Value>KVP</ows:Value>
</ows:AllowedValues>
</ows:Constraint>
</ows:Get>
</ows:HTTP>
</ows:DCP>
</ows:Operation>
<ows:Operation name="GetTile">
<ows:DCP>
<ows:HTTP>
<ows:Get xlink:href="https://admin-enterprise-gis.ucsd.edu/server/rest/services/BaseData/Nearmap_9in_2025/MapServer/WMTS/tile/1.0.0/">
<ows:Constraint name="GetEncoding">
<ows:AllowedValues>
<ows:Value>RESTful</ows:Value>
</ows:AllowedValues>
</ows:Constraint>
</ows:Get>
<ows:Get xlink:href="https://admin-enterprise-gis.ucsd.edu/server/rest/services/BaseData/Nearmap_9in_2025/MapServer/WMTS?">
<ows:Constraint name="GetEncoding">
<ows:AllowedValues>
<ows:Value>KVP</ows:Value>
</ows:AllowedValues>
</ows:Constraint>
</ows:Get>
</ows:HTTP>
</ows:DCP>
</ows:Operation>
</ows:OperationsMetadata> <Contents>
<!--Layer--> <Layer>
<ows:Title>BaseData_Nearmap_9in_2025</ows:Title> <ows:Identifier>BaseData_Nearmap_9in_2025</ows:Identifier>
<ows:BoundingBox crs="urn:ogc:def:crs:EPSG::2230">
<ows:LowerCorner>6171241.2 1821957.0</ows:LowerCorner>
<ows:UpperCorner>6393634.8 2018373.0</ows:UpperCorner>
</ows:BoundingBox> <ows:WGS84BoundingBox crs="urn:ogc:def:crs:OGC:2:84">
<ows:LowerCorner>-117.52634261844472 32.65907379323386</ows:LowerCorner>
<ows:UpperCorner>-116.79597409491896 33.20421366097695</ows:UpperCorner>
</ows:WGS84BoundingBox>
<Style isDefault="true">
<ows:Title>Default Style</ows:Title>
<ows:Identifier>default</ows:Identifier>
</Style>
<Format>image/jpgpng</Format>
<TileMatrixSetLink>
<TileMatrixSet>default028mm</TileMatrixSet>
</TileMatrixSetLink>
<ResourceURL format="image/jpgpng" resourceType="tile" template="https://admin-enterprise-gis.ucsd.edu/server/rest/services/BaseData/Nearmap_9in_2025/MapServer/WMTS/tile/1.0.0/BaseData_Nearmap_9in_2025/{Style}/{TileMatrixSet}/{TileMatrix}/{TileRow}/{TileCol}" />
</Layer> <!--TileMatrixSet-->
<TileMatrixSet>
<ows:Title>TileMatrix using 0.28mm</ows:Title>
<ows:Abstract>The tile matrix set that has scale values calculated based on the dpi defined by OGC specification (dpi assumes 0.28mm as the physical distance of a pixel).</ows:Abstract> <ows:Identifier>default028mm</ows:Identifier>
<ows:SupportedCRS>urn:ogc:def:crs:EPSG::2230</ows:SupportedCRS>
<TileMatrix>
<ows:Identifier>0</ows:Identifier>
<ScaleDenominator>1.064507198294664E9</ScaleDenominator>
<TopLeftCorner>-1.186084832119737E8 1.0619283300464755E8</TopLeftCorner> <TileWidth>256</TileWidth> <TileHeight>256</TileHeight>
<MatrixWidth>1</MatrixWidth> <MatrixHeight>1</MatrixHeight>
</TileMatrix>
<TileMatrix>
<ows:Identifier>1</ows:Identifier>
<ScaleDenominator>5.32253599147332E8</ScaleDenominator>
<TopLeftCorner>-1.186084832119737E8 1.0619283300464755E8</TopLeftCorner> <TileWidth>256</TileWidth> <TileHeight>256</TileHeight>
<MatrixWidth>1</MatrixWidth> <MatrixHeight>1</MatrixHeight>
</TileMatrix>
<TileMatrix>
<ows:Identifier>2</ows:Identifier>
<ScaleDenominator>2.66126799573666E8</ScaleDenominator>
<TopLeftCorner>-1.186084832119737E8 1.0619283300464755E8</TopLeftCorner> <TileWidth>256</TileWidth> <TileHeight>256</TileHeight>
<MatrixWidth>2</MatrixWidth> <MatrixHeight>2</MatrixHeight>
</TileMatrix>
<TileMatrix>
<ows:Identifier>3</ows:Identifier>
<ScaleDenominator>1.33063399786833E8</ScaleDenominator>
<TopLeftCorner>-1.186084832119737E8 1.0619283300464755E8</TopLeftCorner> <TileWidth>256</TileWidth> <TileHeight>256</TileHeight>
<MatrixWidth>4</MatrixWidth> <MatrixHeight>4</MatrixHeight>
</TileMatrix>
<TileMatrix>
<ows:Identifier>4</ows:Identifier>
<ScaleDenominator>6.65316998934165E7</ScaleDenominator>
<TopLeftCorner>-1.186084832119737E8 1.0619283300464755E8</TopLeftCorner> <TileWidth>256</TileWidth> <TileHeight>256</TileHeight>
<MatrixWidth>8</MatrixWidth> <MatrixHeight>7</MatrixHeight>
</TileMatrix>
<TileMatrix>
<ows:Identifier>5</ows:Identifier>
<ScaleDenominator>3.326584994670825E7</ScaleDenominator>
<TopLeftCorner>-1.186084832119737E8 1.0619283300464755E8</TopLeftCorner> <TileWidth>256</TileWidth> <TileHeight>256</TileHeight>
<MatrixWidth>16</MatrixWidth> <MatrixHeight>14</MatrixHeight>
</TileMatrix>
<TileMatrix>
<ows:Identifier>6</ows:Identifier>
<ScaleDenominator>1.6632924973354125E7</ScaleDenominator>
<TopLeftCorner>-1.186084832119737E8 1.0619283300464755E8</TopLeftCorner> <TileWidth>256</TileWidth> <TileHeight>256</TileHeight>
<MatrixWidth>32</MatrixWidth> <MatrixHeight>27</MatrixHeight>
</TileMatrix>
<TileMatrix>
<ows:Identifier>7</ows:Identifier>
<ScaleDenominator>8316462.486677063</ScaleDenominator>
<TopLeftCorner>-1.186084832119737E8 1.0619283300464755E8</TopLeftCorner> <TileWidth>256</TileWidth> <TileHeight>256</TileHeight>
<MatrixWidth>64</MatrixWidth> <MatrixHeight>54</MatrixHeight>
</TileMatrix>
<TileMatrix>
<ows:Identifier>8</ows:Identifier>
<ScaleDenominator>4158231.2433385313</ScaleDenominator>
<TopLeftCorner>-1.186084832119737E8 1.0619283300464755E8</TopLeftCorner> <TileWidth>256</TileWidth> <TileHeight>256</TileHeight>
<MatrixWidth>128</MatrixWidth> <MatrixHeight>107</MatrixHeight>
</TileMatrix>
<TileMatrix>
<ows:Identifier>9</ows:Identifier>
<ScaleDenominator>2079115.6216692657</ScaleDenominator>
<TopLeftCorner>-1.186084832119737E8 1.0619283300464755E8</TopLeftCorner> <TileWidth>256</TileWidth> <TileHeight>256</TileHeight>
<MatrixWidth>256</MatrixWidth> <MatrixHeight>214</MatrixHeight>
</TileMatrix>
<TileMatrix>
<ows:Identifier>10</ows:Identifier>
<ScaleDenominator>1039557.8108346328</ScaleDenominator>
<TopLeftCorner>-1.186084832119737E8 1.0619283300464755E8</TopLeftCorner> <TileWidth>256</TileWidth> <TileHeight>256</TileHeight>
<MatrixWidth>512</MatrixWidth> <MatrixHeight>427</MatrixHeight>
</TileMatrix>
<TileMatrix>
<ows:Identifier>11</ows:Identifier>
<ScaleDenominator>519778.9054173164</ScaleDenominator>
<TopLeftCorner>-1.186084832119737E8 1.0619283300464755E8</TopLeftCorner> <TileWidth>256</TileWidth> <TileHeight>256</TileHeight>
<MatrixWidth>1023</MatrixWidth> <MatrixHeight>854</MatrixHeight>
</TileMatrix>
<TileMatrix>
<ows:Identifier>12</ows:Identifier>
<ScaleDenominator>259889.4527086582</ScaleDenominator>
<TopLeftCorner>-1.186084832119737E8 1.0619283300464755E8</TopLeftCorner> <TileWidth>256</TileWidth> <TileHeight>256</TileHeight>
<MatrixWidth>2046</MatrixWidth> <MatrixHeight>1708</MatrixHeight>
</TileMatrix>
<TileMatrix>
<ows:Identifier>13</ows:Identifier>
<ScaleDenominator>129944.7263543291</ScaleDenominator>
<TopLeftCorner>-1.186084832119737E8 1.0619283300464755E8</TopLeftCorner> <TileWidth>256</TileWidth> <TileHeight>256</TileHeight>
<MatrixWidth>4091</MatrixWidth> <MatrixHeight>3416</MatrixHeight>
</TileMatrix>
<TileMatrix>
<ows:Identifier>14</ows:Identifier>
<ScaleDenominator>64972.36317716455</ScaleDenominator>
<TopLeftCorner>-1.186084832119737E8 1.0619283300464755E8</TopLeftCorner> <TileWidth>256</TileWidth> <TileHeight>256</TileHeight>
<MatrixWidth>8182</MatrixWidth> <MatrixHeight>6831</MatrixHeight>
</TileMatrix>
<TileMatrix>
<ows:Identifier>15</ows:Identifier>
<ScaleDenominator>32486.181588582276</ScaleDenominator>
<TopLeftCorner>-1.186084832119737E8 1.0619283300464755E8</TopLeftCorner> <TileWidth>256</TileWidth> <TileHeight>256</TileHeight>
<MatrixWidth>16363</MatrixWidth> <MatrixHeight>13662</MatrixHeight>
</TileMatrix>
<TileMatrix>
<ows:Identifier>16</ows:Identifier>
<ScaleDenominator>16243.090794291138</ScaleDenominator>
<TopLeftCorner>-1.186084832119737E8 1.0619283300464755E8</TopLeftCorner> <TileWidth>256</TileWidth> <TileHeight>256</TileHeight>
<MatrixWidth>32725</MatrixWidth> <MatrixHeight>27324</MatrixHeight>
</TileMatrix>
<TileMatrix>
<ows:Identifier>17</ows:Identifier>
<ScaleDenominator>8121.545397145569</ScaleDenominator>
<TopLeftCorner>-1.186084832119737E8 1.0619283300464755E8</TopLeftCorner> <TileWidth>256</TileWidth> <TileHeight>256</TileHeight>
<MatrixWidth>65449</MatrixWidth> <MatrixHeight>54647</MatrixHeight>
</TileMatrix>
<TileMatrix>
<ows:Identifier>18</ows:Identifier>
<ScaleDenominator>4060.7726985727845</ScaleDenominator>
<TopLeftCorner>-1.186084832119737E8 1.0619283300464755E8</TopLeftCorner> <TileWidth>256</TileWidth> <TileHeight>256</TileHeight>
<MatrixWidth>130897</MatrixWidth> <MatrixHeight>109293</MatrixHeight>
</TileMatrix>
<TileMatrix>
<ows:Identifier>19</ows:Identifier>
<ScaleDenominator>2030.3863492863923</ScaleDenominator>
<TopLeftCorner>-1.186084832119737E8 1.0619283300464755E8</TopLeftCorner> <TileWidth>256</TileWidth> <TileHeight>256</TileHeight>
<MatrixWidth>261793</MatrixWidth> <MatrixHeight>218585</MatrixHeight>
</TileMatrix>
<TileMatrix>
<ows:Identifier>20</ows:Identifier>
<ScaleDenominator>1015.1931746431961</ScaleDenominator>
<TopLeftCorner>-1.186084832119737E8 1.0619283300464755E8</TopLeftCorner> <TileWidth>256</TileWidth> <TileHeight>256</TileHeight>
<MatrixWidth>523585</MatrixWidth> <MatrixHeight>437169</MatrixHeight>
</TileMatrix>
<TileMatrix>
<ows:Identifier>21</ows:Identifier>
<ScaleDenominator>507.59658732159807</ScaleDenominator>
<TopLeftCorner>-1.186084832119737E8 1.0619283300464755E8</TopLeftCorner> <TileWidth>256</TileWidth> <TileHeight>256</TileHeight>
<MatrixWidth>1047169</MatrixWidth> <MatrixHeight>874337</MatrixHeight>
</TileMatrix>
<TileMatrix>
<ows:Identifier>22</ows:Identifier>
<ScaleDenominator>253.79829366079903</ScaleDenominator>
<TopLeftCorner>-1.186084832119737E8 1.0619283300464755E8</TopLeftCorner> <TileWidth>256</TileWidth> <TileHeight>256</TileHeight>
<MatrixWidth>2094337</MatrixWidth> <MatrixHeight>1748673</MatrixHeight>
</TileMatrix>
<TileMatrix>
<ows:Identifier>23</ows:Identifier>
<ScaleDenominator>126.89914683039952</ScaleDenominator>
<TopLeftCorner>-1.186084832119737E8 1.0619283300464755E8</TopLeftCorner> <TileWidth>256</TileWidth> <TileHeight>256</TileHeight>
<MatrixWidth>4188674</MatrixWidth> <MatrixHeight>3497345</MatrixHeight>
</TileMatrix>
</TileMatrixSet>
</Contents>
<ServiceMetadataURL xlink:href="https://admin-enterprise-gis.ucsd.edu/server/rest/services/BaseData/Nearmap_9in_2025/MapServer/WMTS/1.0.0/WMTSCapabilities.xml" /> </Capabilities>
