View In:
ArcGIS JavaScript
ArcGIS Online Map Viewer
ArcGIS Earth
ArcGIS Pro
Service Description:
Map Name: Nearmap 9in 2025
Legend
All Layers and Tables
Dynamic Legend
Dynamic All Layers
Layers:
Description:
Service Item Id: 81b6b85612044ef79746d3a89e62bf48
Copyright Text:
Spatial Reference:
102646
(2230)
LatestVCSWkid(0)
Single Fused Map Cache: true
Tile Info:
- Height: 256.0
- Width: 256.0
- DPI: 96.0
-
Levels of Detail: 24
-
Level ID: 0
[ Start Tile, End Tile ]
- Resolution: 977891.7959268778
- Scale: 1.126533601974967E9
-
Level ID: 1
[ Start Tile, End Tile ]
- Resolution: 488945.8979634389
- Scale: 5.632668009874835E8
-
Level ID: 2
[ Start Tile, End Tile ]
- Resolution: 244472.94898171944
- Scale: 2.8163340049374175E8
-
Level ID: 3
[ Start Tile, End Tile ]
- Resolution: 122236.47449085972
- Scale: 1.4081670024687088E8
-
Level ID: 4
[ Start Tile, End Tile ]
- Resolution: 61118.23724542986
- Scale: 7.040835012343544E7
-
Level ID: 5
[ Start Tile, End Tile ]
- Resolution: 30559.11862271493
- Scale: 3.520417506171772E7
-
Level ID: 6
[ Start Tile, End Tile ]
- Resolution: 15279.559311357465
- Scale: 1.760208753085886E7
-
Level ID: 7
[ Start Tile, End Tile ]
- Resolution: 7639.7796556787325
- Scale: 8801043.76542943
-
Level ID: 8
[ Start Tile, End Tile ]
- Resolution: 3819.8898278393663
- Scale: 4400521.882714715
-
Level ID: 9
[ Start Tile, End Tile ]
- Resolution: 1909.9449139196831
- Scale: 2200260.9413573574
-
Level ID: 10
[ Start Tile, End Tile ]
- Resolution: 954.9724569598416
- Scale: 1100130.4706786787
-
Level ID: 11
[ Start Tile, End Tile ]
- Resolution: 477.4862284799208
- Scale: 550065.2353393394
-
Level ID: 12
[ Start Tile, End Tile ]
- Resolution: 238.7431142399604
- Scale: 275032.6176696697
-
Level ID: 13
[ Start Tile, End Tile ]
- Resolution: 119.3715571199802
- Scale: 137516.30883483484
-
Level ID: 14
[ Start Tile, End Tile ]
- Resolution: 59.6857785599901
- Scale: 68758.15441741742
-
Level ID: 15
[ Start Tile, End Tile ]
- Resolution: 29.84288927999505
- Scale: 34379.07720870871
-
Level ID: 16
[ Start Tile, End Tile ]
- Resolution: 14.921444639997524
- Scale: 17189.538604354355
-
Level ID: 17
[ Start Tile, End Tile ]
- Resolution: 7.460722319998762
- Scale: 8594.769302177177
-
Level ID: 18
[ Start Tile, End Tile ]
- Resolution: 3.730361159999381
- Scale: 4297.384651088589
-
Level ID: 19
[ Start Tile, End Tile ]
- Resolution: 1.8651805799996906
- Scale: 2148.6923255442944
-
Level ID: 20
[ Start Tile, End Tile ]
- Resolution: 0.9325902899998453
- Scale: 1074.3461627721472
-
Level ID: 21
[ Start Tile, End Tile ]
- Resolution: 0.46629514499992264
- Scale: 537.1730813860736
-
Level ID: 22
[ Start Tile, End Tile ]
- Resolution: 0.23314757249996132
- Scale: 268.5865406930368
-
Level ID: 23
[ Start Tile, End Tile ]
- Resolution: 0.11657378624998066
- Scale: 134.2932703465184
- Format: Mixed
- Compression Quality: 75.0
- Origin: X: -1.186084832119737E8
Y: 1.0619283300464755E8
- Spatial Reference: 102646
(2230)
LatestVCSWkid(0)
Storage Info:
- Storage Format: esriMapCacheStorageModeCompactV2
- Packet Size: 128
Initial Extent:
XMin: 6261290.558495718
YMin: 1901496.768533281
XMax: 6261806.316970686
YMax: 1901952.281716302
Spatial Reference: 102646
(2230)
LatestVCSWkid(0)
Full Extent:
XMin: 6171241.2
YMin: 1821957.0
XMax: 6393634.8
YMax: 2018373.0
Spatial Reference: 102646
(2230)
LatestVCSWkid(0)
Units: esriFeet
Supported Image Format Types: PNG32,PNG24,PNG,JPG,DIB,TIFF,EMF,PS,PDF,GIF,SVG,SVGZ,BMP
Document Info:
Title: Map
Author:
Comments:
Subject:
Category:
Keywords: Nearmap
AntialiasingMode: Fast
TextAntialiasingMode: Force
Supports Dynamic Layers: true
MaxRecordCount: 2000
MaxSelectionCount: 2000
MaxImageHeight: 4096
MaxImageWidth: 4096
Supported Query Formats: JSON, geoJSON, PBF
Supports Query Data Elements: true
Min Scale: 68758.15441741742
Max Scale: 537.1730813860736
Supports Datum Transformation: true
Child Resources:
Info
Dynamic Layer
Supported Operations:
Export Map
Identify
QueryLegends
QueryDomains
Find
Return Updates